BEGIN:VCALENDAR
METHOD:PUBLISH
X-WR-TIMEZONE:America/Denver
PRODID:-//Hold My Ticket.//HMT Web App//EN
CALSCALE:GREGORIAN
METHOD:PUBLISH
X-WR-CALNAME:El Rey Theater
X-WR-CALDESC:Upcoming events at El Rey Theater
BEGIN:VTIMEZONE
TZID:America/Denver 
END:VTIMEZONE
BEGIN:VEVENT
SEQUENCE:2
TRANSP:OPAQUE
UID:13e7d86f05144b8a76377db3a2d831d4
DTSTART:20250425T183000
DTSTAMP:20250309T014517Z
SUMMARY:MERCILESS METAL SAVAGES 2025
DESCRIPTION:MERCILESS SAVAGES 2025! The difinative Indigenous Metal showcase. 
CREATED:20250309T014517Z
URL;VALUE=URI:http://holdmyticket.com/event/446119 

DTEND:20250426T010000
END:VEVENT
END:VCALENDAR