BEGIN:VCALENDAR
METHOD:PUBLISH
X-WR-TIMEZONE:America/Denver
PRODID:-//Hold My Ticket.//HMT Web App//EN
CALSCALE:GREGORIAN
METHOD:PUBLISH
X-WR-CALNAME:Winrock Park
X-WR-CALDESC:Upcoming events at Winrock Park
BEGIN:VTIMEZONE
TZID:America/Denver 
END:VTIMEZONE
BEGIN:VEVENT
SEQUENCE:2
TRANSP:OPAQUE
UID:6f9f05a03f46540d7d7d0666783534c9
DTSTART:20250620T183000
DTSTAMP:20250619T132023Z
SUMMARY:Hillary Smith and Chillhouse | Chris Dracup :Funk of the West 
DESCRIPTION:The members of the Chill House Band bring years of experience performing professionally in New Mexico and Texas. The band provides an outstanding musical experience, including popular dance music, smooth/contemporary jazz, soul, R&amp;B, and Blues.
CREATED:20250619T132023Z
URL;VALUE=URI:http://holdmyticket.com/event/446172 

DTEND:20250620T203000
END:VEVENT
END:VCALENDAR