BEGIN:VCALENDAR
METHOD:PUBLISH
X-WR-TIMEZONE:America/Denver
PRODID:-//Hold My Ticket.//HMT Web App//EN
CALSCALE:GREGORIAN
METHOD:PUBLISH
X-WR-CALNAME:HQ
X-WR-CALDESC:Upcoming events at HQ
BEGIN:VTIMEZONE
TZID:America/Denver 
END:VTIMEZONE
BEGIN:VEVENT
SEQUENCE:2
TRANSP:OPAQUE
UID:624e781b133aefc79238780bedb0c748
DTSTART:20250509T190000
DTSTAMP:20250508T102021Z
SUMMARY:Boob Tube Burlesque with The Rhinettes   ***SOLD OUT***
DESCRIPTION:
CREATED:20250508T102021Z
URL;VALUE=URI:http://holdmyticket.com/event/446193 

DTEND:20250509T210000
END:VEVENT
END:VCALENDAR