BEGIN:VCALENDAR
METHOD:PUBLISH
X-WR-TIMEZONE:America/Denver
PRODID:-//Hold My Ticket.//HMT Web App//EN
CALSCALE:GREGORIAN
METHOD:PUBLISH
X-WR-CALNAME:HQ
X-WR-CALDESC:Upcoming events at HQ
BEGIN:VTIMEZONE
TZID:America/Denver 
END:VTIMEZONE
BEGIN:VEVENT
SEQUENCE:2
TRANSP:OPAQUE
UID:572f9451bb2092427e73016a45e054dc
DTSTART:20250510T190000
DTSTAMP:20250502T095848Z
SUMMARY:Boob Tube Burlesque with The Rhinettes
DESCRIPTION:
CREATED:20250502T095848Z
URL;VALUE=URI:http://holdmyticket.com/event/446194 

DTEND:20250510T210000
END:VEVENT
END:VCALENDAR