BEGIN:VCALENDAR
METHOD:PUBLISH
X-WR-TIMEZONE:America/Denver
PRODID:-//Hold My Ticket.//HMT Web App//EN
CALSCALE:GREGORIAN
METHOD:PUBLISH
X-WR-CALNAME:Los Griegos Library
X-WR-CALDESC:Upcoming events at Los Griegos Library
BEGIN:VTIMEZONE
TZID:America/Denver 
END:VTIMEZONE
BEGIN:VEVENT
SEQUENCE:2
TRANSP:OPAQUE
UID:70cba3f90c19ecc3c779e3b0ca1ec75e
DTSTART:20250723T160000
DTSTAMP:20250722T232719Z
SUMMARY:Oscar Butler
DESCRIPTION:Oscar Butler, a consummate talent in the realm of music, blends soulful melodies with witty lyricism and expert acoustic guitar prowess. As a singer, songwriter, and Delta-style guitarist, Oscar captivates audiences with his unique blend of charm and musical ingenuity. With a natural ease on stage, he effortlessly delivers his original compositions, infusing them with his often humorous take on life's twists and turns. With his exceptional skill set and magnetic stage presence, Oscar is undoubtedly poised to enrapture audiences on whatever stage he may grace.
CREATED:20250722T232719Z
URL;VALUE=URI:http://holdmyticket.com/event/446222 

DTEND:20250723T170000
END:VEVENT
END:VCALENDAR