BEGIN:VCALENDAR
METHOD:PUBLISH
X-WR-TIMEZONE:America/Denver
PRODID:-//Hold My Ticket.//HMT Web App//EN
CALSCALE:GREGORIAN
METHOD:PUBLISH
X-WR-CALNAME:FUSION | 708
X-WR-CALDESC:Upcoming events at FUSION | 708
BEGIN:VTIMEZONE
TZID:America/Denver 
END:VTIMEZONE
BEGIN:VEVENT
SEQUENCE:2
TRANSP:OPAQUE
UID:db39a4f9f2ffc86b49429c4bd3c3d17d
DTSTART:20250802T193000
DTSTAMP:20250729T152022Z
SUMMARY:Mark Hummel's All Star Blues w/Junior Watson &amp; Anson Funderburgh
DESCRIPTION:Mark Hummel started playing harmonica in 1970 and is considered one of the premier blues harmonica players of his generation. He is a road warrior--a true Blues Survivor. Along the way, he has crafted his own trademark harmonica sound: a subtle combination of tone, phrasing and attack combined with a strong sense of swing. Thanks to his albums, constant touring and appearances at the major blues festivals, he's firmly established his solid reputation around the US and Europe. 
CREATED:20250729T152022Z
URL;VALUE=URI:http://holdmyticket.com/event/446347 

DTEND:20250802T213000
END:VEVENT
END:VCALENDAR