BEGIN:VCALENDAR
METHOD:PUBLISH
X-WR-TIMEZONE:America/Denver
PRODID:-//Hold My Ticket.//HMT Web App//EN
CALSCALE:GREGORIAN
METHOD:PUBLISH
X-WR-CALNAME:Buffalo Rose
X-WR-CALDESC:Upcoming events at Buffalo Rose
BEGIN:VTIMEZONE
TZID:America/Denver 
END:VTIMEZONE
BEGIN:VEVENT
SEQUENCE:2
TRANSP:OPAQUE
UID:5c42ac38e1565d96feb32599c5f9bc22
DTSTART:20250613T190000
DTSTAMP:20250612T093108Z
SUMMARY:Rick Lewis Project
DESCRIPTION:
CREATED:20250612T093108Z
URL;VALUE=URI:http://holdmyticket.com/event/446576 

DTEND:20250613T220000
END:VEVENT
END:VCALENDAR