BEGIN:VCALENDAR
METHOD:PUBLISH
X-WR-TIMEZONE:America/Denver
PRODID:-//Hold My Ticket.//HMT Web App//EN
CALSCALE:GREGORIAN
METHOD:PUBLISH
X-WR-CALNAME:The Mothership at Taos Mesa Brewing (Mothership Stage)
X-WR-CALDESC:Upcoming events at The Mothership at Taos Mesa Brewing (Mothership Stage)
BEGIN:VTIMEZONE
TZID:America/Denver 
END:VTIMEZONE
BEGIN:VEVENT
SEQUENCE:2
TRANSP:OPAQUE
UID:c34f3346f93d0f940c189ef0e3dac3e8
DTSTART:20250603T190000
DTSTAMP:20250515T112156Z
SUMMARY:Fruition
DESCRIPTION:
CREATED:20250515T112156Z
URL;VALUE=URI:http://holdmyticket.com/event/446615 

DTEND:20250603T220000
END:VEVENT
END:VCALENDAR