BEGIN:VCALENDAR
METHOD:PUBLISH
X-WR-TIMEZONE:America/Denver
PRODID:-//Hold My Ticket.//HMT Web App//EN
CALSCALE:GREGORIAN
METHOD:PUBLISH
X-WR-CALNAME:Tumbleroot Brewery & Distillery
X-WR-CALDESC:Upcoming events at Tumbleroot Brewery & Distillery
BEGIN:VTIMEZONE
TZID:America/Denver 
END:VTIMEZONE
BEGIN:VEVENT
SEQUENCE:2
TRANSP:OPAQUE
UID:89d2056e18fe1e43b211501538d6d0c2
DTSTART:20251021T193000
DTSTAMP:20251021T155311Z
SUMMARY:Nicotine Dolls
DESCRIPTION:
CREATED:20251021T155311Z
URL;VALUE=URI:http://holdmyticket.com/event/446823 

DTEND:20251021T223000
END:VEVENT
END:VCALENDAR