BEGIN:VCALENDAR
METHOD:PUBLISH
X-WR-TIMEZONE:America/Denver
PRODID:-//Hold My Ticket.//HMT Web App//EN
CALSCALE:GREGORIAN
METHOD:PUBLISH
X-WR-CALNAME:Tumbleroot Brewery and Distillery
X-WR-CALDESC:Upcoming events at Tumbleroot Brewery and Distillery
BEGIN:VTIMEZONE
TZID:America/Denver 
END:VTIMEZONE
BEGIN:VEVENT
SEQUENCE:2
TRANSP:OPAQUE
UID:2c9911261e5fa913285a67f2c3c621bc
DTSTART:20250511T140000
DTSTAMP:20250505T135535Z
SUMMARY:Jamming with Jules Live!
DESCRIPTION:
CREATED:20250505T135535Z
URL;VALUE=URI:http://holdmyticket.com/event/446825 

DTEND:20250511T160000
END:VEVENT
END:VCALENDAR