BEGIN:VCALENDAR
METHOD:PUBLISH
X-WR-TIMEZONE:America/Denver
PRODID:-//Hold My Ticket.//HMT Web App//EN
CALSCALE:GREGORIAN
METHOD:PUBLISH
X-WR-CALNAME:KiMo Theatre
X-WR-CALDESC:Upcoming events at KiMo Theatre
BEGIN:VTIMEZONE
TZID:America/Denver 
END:VTIMEZONE
BEGIN:VEVENT
SEQUENCE:2
TRANSP:OPAQUE
UID:28283b1ca73c662352fccb77ff9d89b9
DTSTART:20260126T193000
DTSTAMP:20260121T120858Z
SUMMARY:Welcome To Night Vale: Murder Night in Blood Forest
DESCRIPTION:
CREATED:20260121T120858Z
URL;VALUE=URI:http://holdmyticket.com/event/446837 

DTEND:20260126T220000
END:VEVENT
END:VCALENDAR