BEGIN:VCALENDAR
METHOD:PUBLISH
X-WR-TIMEZONE:America/Denver
PRODID:-//Hold My Ticket.//HMT Web App//EN
CALSCALE:GREGORIAN
METHOD:PUBLISH
X-WR-CALNAME:Tumbleroot Brewery & Distillery
X-WR-CALDESC:Upcoming events at Tumbleroot Brewery & Distillery
BEGIN:VTIMEZONE
TZID:America/Denver 
END:VTIMEZONE
BEGIN:VEVENT
SEQUENCE:2
TRANSP:OPAQUE
UID:1c12020c2939b7441b833a6944b9ad77
DTSTART:20250617T193000
DTSTAMP:20250515T112156Z
SUMMARY:Pedrito Martínez Group
DESCRIPTION:
CREATED:20250515T112156Z
URL;VALUE=URI:http://holdmyticket.com/event/446854 

DTEND:20250617T223000
END:VEVENT
END:VCALENDAR