BEGIN:VCALENDAR
METHOD:PUBLISH
X-WR-TIMEZONE:America/Denver
PRODID:-//Hold My Ticket.//HMT Web App//EN
CALSCALE:GREGORIAN
METHOD:PUBLISH
X-WR-CALNAME:HQ
X-WR-CALDESC:Upcoming events at HQ
BEGIN:VTIMEZONE
TZID:America/Denver 
END:VTIMEZONE
BEGIN:VEVENT
SEQUENCE:2
TRANSP:OPAQUE
UID:3cca335742f79a85d8be97bb37b1cf68
DTSTART:20251031T200000
DTSTAMP:20251031T225440Z
SUMMARY:The Legendary Pink Dots
DESCRIPTION:
CREATED:20251031T225440Z
URL;VALUE=URI:http://holdmyticket.com/event/447033 

DTEND:20251031T234500
END:VEVENT
END:VCALENDAR