BEGIN:VCALENDAR
METHOD:PUBLISH
X-WR-TIMEZONE:America/Denver
PRODID:-//Hold My Ticket.//HMT Web App//EN
CALSCALE:GREGORIAN
METHOD:PUBLISH
X-WR-CALNAME:Quezada's Comedy Club & Cantina
X-WR-CALDESC:Upcoming events at Quezada's Comedy Club & Cantina
BEGIN:VTIMEZONE
TZID:America/Denver 
END:VTIMEZONE
BEGIN:VEVENT
SEQUENCE:2
TRANSP:OPAQUE
UID:3c0c5103c64c07dd28dc6d5dbc88dd3b
DTSTART:20250711T190000
DTSTAMP:20250502T095848Z
SUMMARY:Steven Michael Quezada - Comedy Special
DESCRIPTION:
CREATED:20250502T095848Z
URL;VALUE=URI:http://holdmyticket.com/event/447372 

DTEND:20250711T203000
END:VEVENT
END:VCALENDAR