BEGIN:VCALENDAR
METHOD:PUBLISH
X-WR-TIMEZONE:America/Denver
PRODID:-//Hold My Ticket.//HMT Web App//EN
CALSCALE:GREGORIAN
METHOD:PUBLISH
X-WR-CALNAME:The Box Performance Space
X-WR-CALDESC:Upcoming events at The Box Performance Space
BEGIN:VTIMEZONE
TZID:America/Denver 
END:VTIMEZONE
BEGIN:VEVENT
SEQUENCE:2
TRANSP:OPAQUE
UID:c866f9374bf89c988c9050ba47a9905e
DTSTART:20250509T193000
DTSTAMP:20250508T130907Z
SUMMARY:Your Rong!
DESCRIPTION:
CREATED:20250508T130907Z
URL;VALUE=URI:http://holdmyticket.com/event/447673 

DTEND:20250509T203000
END:VEVENT
END:VCALENDAR