BEGIN:VCALENDAR
METHOD:PUBLISH
X-WR-TIMEZONE:America/Denver
PRODID:-//Hold My Ticket.//HMT Web App//EN
CALSCALE:GREGORIAN
METHOD:PUBLISH
X-WR-CALNAME:ujamadesigns.com
X-WR-CALDESC:Upcoming events at ujamadesigns.com
BEGIN:VTIMEZONE
TZID:America/Denver 
END:VTIMEZONE
BEGIN:VEVENT
SEQUENCE:2
TRANSP:OPAQUE
UID:9029d2b58460d30a17fbb35ffa38cd49
DTSTART:20250422T090000
DTSTAMP:20250422T034828Z
SUMMARY:Third World Spring 2025 US Tour
DESCRIPTION:Fri Apr 4: Spotlight 29 Casino. Coachella, CA
Sat Apr 5:  The Siren. Morro Bay, CA 
Sun Apr 6: The Venice West. Venice, CA 
Tue Apr 8: Belly Up Tavern. Solana Beach, CA
Wed Apr 9: SOHO. Santa Barbara, CA 
Thurs Apr 10: Miners Foundry. Nevada City, CA 
Fri Apr 11: Lost On Main. Chico, CA 
Sat Apr 12: Moe's Alley. Santa Cruz. CA. 
Sun Apr 13: Sweetwater Music Hall. Mill Valley, CA 
Tue Apr 15:  Ivy Ballroom. Buena Vista, CO 
Thurs Apr 17: The Black Sheep. Colorado Springs, CO 
Fri Apr 18: Ophelia's. Denver, CO 
Sat Apr 19: Reggae in The Desert. Las Vegas, NV 
Sun Apr 20: Austin Reggae Festival. Austin, TX
Wed Apr 23: Big Island Surprise!
Thurs Apr 24:  DaPlayground. Wailuku, HI 
Fri Apr 25: Uncle Robert's. Kalapana, Pāhoa, HI    
Sat Apr 26:  Blue Note. Honolulu, HI
CREATED:20250422T034828Z
URL;VALUE=URI:http://holdmyticket.com/event/447693 

DTEND:20250426T234500
END:VEVENT
END:VCALENDAR