BEGIN:VCALENDAR
METHOD:PUBLISH
X-WR-TIMEZONE:America/Chicago
PRODID:-//Hold My Ticket.//HMT Web App//EN
CALSCALE:GREGORIAN
METHOD:PUBLISH
X-WR-CALNAME:The Aquarium
X-WR-CALDESC:Upcoming events at The Aquarium
BEGIN:VTIMEZONE
TZID:America/Chicago 
END:VTIMEZONE
BEGIN:VEVENT
SEQUENCE:2
TRANSP:OPAQUE
UID:7d8c1e16fc5e55d5a53c6390d23eb3a3
DTSTART:20250524T193000
DTSTAMP:20250424T121547Z
SUMMARY:Battle of the Hamm's 2025
DESCRIPTION:The 20+ year tradition returns with 10 bands entering The Aquarium and one leaving with 300 cans of Hamm's (or two like last year). Come join the party this year on Saturday, May 24th when rana danta defends their frog beer title against 9 new competitors. You the paying fan get to vote on your favorite band of the evening and they leave with 300 cans of Hamm's and the historic Hamm's championship belt handmade by previous winners.

Featuring:
rana danta (2024 champs)
Boldmember (1st show/ft'ing members of Moo Boots)
Crucial Tauntaun (featuring members of ex Hamm's champs)
Grandma's Side Piece (old folks home lurking punk rock)
JURON (1st show/ft'ing members of IMC &amp; Crary Method)
MOTHER (post hardcore darlings)
Scum Rag (4th show?/daughter &amp; father stealing noisecore)
Smokebomb (1st show/ft'ing members of Poise &amp; Peace &amp; rana danta)
Vasantha (1st show/ft'ing members of Divine Offering &amp; Big Hank)
Zero Fret (hard rock? metalcore? all party?)

7PM Doors \\ 7:30PM Music (No Punk Time) \\ $15Adv&amp;DoS \\ 21+
CREATED:20250424T121547Z
URL;VALUE=URI:http://holdmyticket.com/event/447825 

DTEND:20250525T011500
END:VEVENT
END:VCALENDAR