BEGIN:VCALENDAR
METHOD:PUBLISH
X-WR-TIMEZONE:America/Los_Angeles
PRODID:-//Hold My Ticket.//HMT Web App//EN
CALSCALE:GREGORIAN
METHOD:PUBLISH
X-WR-CALNAME:Winstons
X-WR-CALDESC:Upcoming events at Winstons
BEGIN:VTIMEZONE
TZID:America/Los_Angeles 
END:VTIMEZONE
BEGIN:VEVENT
SEQUENCE:2
TRANSP:OPAQUE
UID:177421f3fa38115635e8c5e8f91c4e4f
DTSTART:20250807T203000
DTSTAMP:20250623T123557Z
SUMMARY:Fayuca and Aaron Wolf 
DESCRIPTION:
CREATED:20250623T123557Z
URL;VALUE=URI:http://holdmyticket.com/event/447999 

DTEND:20250807T233000
END:VEVENT
END:VCALENDAR