BEGIN:VCALENDAR
METHOD:PUBLISH
X-WR-TIMEZONE:America/Denver
PRODID:-//Hold My Ticket.//HMT Web App//EN
CALSCALE:GREGORIAN
METHOD:PUBLISH
X-WR-CALNAME:Outpost Performance Space
X-WR-CALDESC:Upcoming events at Outpost Performance Space
BEGIN:VTIMEZONE
TZID:America/Denver 
END:VTIMEZONE
BEGIN:VEVENT
SEQUENCE:2
TRANSP:OPAQUE
UID:85ea8f1ed1fe7b0590baffcef129ab23
DTSTART:20251115T193000
DTSTAMP:20251115T184309Z
SUMMARY:The Bébé La La 15-Year Anniversary Concert & Celebration  - SOLD OUT!
DESCRIPTION:With his music videos having Internet views exceeding 200 million and bookings in every corner of the globe, Luca Stricagnoli is considered to be one of the most unique guitarists in the world. Luca's creative style, which led him to invent instruments like the Reversed Triple Neck Guitar and the Reversed Slide Neck, vastly contributed to the modern evolution of acoustic guitar.
CREATED:20251115T184309Z
URL;VALUE=URI:http://holdmyticket.com/event/448067 

DTEND:20251115T220000
END:VEVENT
END:VCALENDAR