BEGIN:VCALENDAR
METHOD:PUBLISH
X-WR-TIMEZONE:America/Denver
PRODID:-//Hold My Ticket.//HMT Web App//EN
CALSCALE:GREGORIAN
METHOD:PUBLISH
X-WR-CALNAME:The Mothership at Taos Mesa Brewing (Mothership Stage)
X-WR-CALDESC:Upcoming events at The Mothership at Taos Mesa Brewing (Mothership Stage)
BEGIN:VTIMEZONE
TZID:America/Denver 
END:VTIMEZONE
BEGIN:VEVENT
SEQUENCE:2
TRANSP:OPAQUE
UID:a69261828c488bddcabeff9e7847ce65
DTSTART:20250810T190000
DTSTAMP:20250715T143804Z
SUMMARY:Chuck Prophet and His Cumbia Shoes
DESCRIPTION:
CREATED:20250715T143804Z
URL;VALUE=URI:http://holdmyticket.com/event/448252 

DTEND:20250810T223000
END:VEVENT
END:VCALENDAR