BEGIN:VCALENDAR
METHOD:PUBLISH
X-WR-TIMEZONE:America/Denver
PRODID:-//Hold My Ticket.//HMT Web App//EN
CALSCALE:GREGORIAN
METHOD:PUBLISH
X-WR-CALNAME:HQ
X-WR-CALDESC:Upcoming events at HQ
BEGIN:VTIMEZONE
TZID:America/Denver 
END:VTIMEZONE
BEGIN:VEVENT
SEQUENCE:2
TRANSP:OPAQUE
UID:120977269a70c5a03c24869c45aa9da1
DTSTART:20250710T200000
DTSTAMP:20250623T123557Z
SUMMARY:Pegboy
DESCRIPTION:
CREATED:20250623T123557Z
URL;VALUE=URI:http://holdmyticket.com/event/448299 

DTEND:20250710T230000
END:VEVENT
END:VCALENDAR