BEGIN:VCALENDAR
METHOD:PUBLISH
X-WR-TIMEZONE:America/Denver
PRODID:-//Hold My Ticket.//HMT Web App//EN
CALSCALE:GREGORIAN
METHOD:PUBLISH
X-WR-CALNAME:Santa Fe Plaza
X-WR-CALDESC:Upcoming events at Santa Fe Plaza
BEGIN:VTIMEZONE
TZID:America/Denver 
END:VTIMEZONE
BEGIN:VEVENT
SEQUENCE:2
TRANSP:OPAQUE
UID:98e77b70a00add758c7edb68346df87a
DTSTART:20250807T180000
DTSTAMP:20250807T153928Z
SUMMARY:Thee Sinseers & The Altons 
DESCRIPTION:
CREATED:20250807T153928Z
URL;VALUE=URI:http://holdmyticket.com/event/448655 

DTEND:20250807T200000
END:VEVENT
END:VCALENDAR