BEGIN:VCALENDAR
METHOD:PUBLISH
X-WR-TIMEZONE:America/Denver
PRODID:-//Hold My Ticket.//HMT Web App//EN
CALSCALE:GREGORIAN
METHOD:PUBLISH
X-WR-CALNAME:The Oriental Theater
X-WR-CALDESC:Upcoming events at The Oriental Theater
BEGIN:VTIMEZONE
TZID:America/Denver 
END:VTIMEZONE
BEGIN:VEVENT
SEQUENCE:2
TRANSP:OPAQUE
UID:0c581813ea381f557ddbe5352d608d7b
DTSTART:20251029T200000
DTSTAMP:20251029T214324Z
SUMMARY:Good Neighbours
DESCRIPTION:
CREATED:20251029T214324Z
URL;VALUE=URI:http://holdmyticket.com/event/448745 

DTEND:20251029T230000
END:VEVENT
END:VCALENDAR