BEGIN:VCALENDAR
METHOD:PUBLISH
X-WR-TIMEZONE:America/Los_Angeles
PRODID:-//Hold My Ticket.//HMT Web App//EN
CALSCALE:GREGORIAN
METHOD:PUBLISH
X-WR-CALNAME:Palm Springs Cultural Center
X-WR-CALDESC:Upcoming events at Palm Springs Cultural Center
BEGIN:VTIMEZONE
TZID:America/Los_Angeles 
END:VTIMEZONE
BEGIN:VEVENT
SEQUENCE:2
TRANSP:OPAQUE
UID:b46644b467a0243212b2ce84a3660493
DTSTART:20250601T183000
DTSTAMP:20260307T162123Z
SUMMARY:DET 15th Anniversary Season Tickets 2025-2026 
DESCRIPTION:SUBSCRIBE AND SAVE more than 15% off single ticket prices! Four plays for $135 (regularly $160).

PRIORITY SEATING FOR RENEWING SUBSCRIBERS and FIRST CHOICE SEATING FOR NEW SUBSCRIBERS.
CREATED:20260307T162123Z
URL;VALUE=URI:http://holdmyticket.com/event/449329 

DTEND:20260419T160000
END:VEVENT
END:VCALENDAR