BEGIN:VCALENDAR
METHOD:PUBLISH
X-WR-TIMEZONE:America/Los_Angeles
PRODID:-//Hold My Ticket.//HMT Web App//EN
CALSCALE:GREGORIAN
METHOD:PUBLISH
X-WR-CALNAME:Palm Springs Cultural Center
X-WR-CALDESC:Upcoming events at Palm Springs Cultural Center
BEGIN:VTIMEZONE
TZID:America/Los_Angeles 
END:VTIMEZONE
BEGIN:VEVENT
SEQUENCE:2
TRANSP:OPAQUE
UID:52ef23a2ba60465784b7f0102c23a183
DTSTART:20260411T140000
DTSTAMP:20260331T142423Z
SUMMARY:KNIFE TO THE HEART 4/11/26 - Saturday Matinee
DESCRIPTION:Some choices slice closer than others.
A sharp-witted look at emotional bruises and family friction from the writers of The Golden Girls and Married... With Children. 
CREATED:20260331T142423Z
URL;VALUE=URI:http://holdmyticket.com/event/449359 

DTEND:20260411T160000
END:VEVENT
END:VCALENDAR