BEGIN:VCALENDAR
METHOD:PUBLISH
X-WR-TIMEZONE:America/Los_Angeles
PRODID:-//Hold My Ticket.//HMT Web App//EN
CALSCALE:GREGORIAN
METHOD:PUBLISH
X-WR-CALNAME:Palm Springs Cultural Center
X-WR-CALDESC:Upcoming events at Palm Springs Cultural Center
BEGIN:VTIMEZONE
TZID:America/Los_Angeles 
END:VTIMEZONE
BEGIN:VEVENT
SEQUENCE:2
TRANSP:OPAQUE
UID:4b8d7a51719430f95ac2ddfc4ef2d1f1
DTSTART:20260412T140000
DTSTAMP:20260331T142828Z
SUMMARY:KNIFE TO THE HEART 4/12/26 - Sunday Matinee
DESCRIPTION:Some choices slice closer than others.
A sharp-witted look at emotional bruises and family friction from the writers of The Golden Girls and Married... With Children. 
CREATED:20260331T142828Z
URL;VALUE=URI:http://holdmyticket.com/event/449361 

DTEND:20260412T160000
END:VEVENT
END:VCALENDAR