BEGIN:VCALENDAR
METHOD:PUBLISH
X-WR-TIMEZONE:America/Los_Angeles
PRODID:-//Hold My Ticket.//HMT Web App//EN
CALSCALE:GREGORIAN
METHOD:PUBLISH
X-WR-CALNAME:Palm Springs Cultural Center
X-WR-CALDESC:Upcoming events at Palm Springs Cultural Center
BEGIN:VTIMEZONE
TZID:America/Los_Angeles 
END:VTIMEZONE
BEGIN:VEVENT
SEQUENCE:2
TRANSP:OPAQUE
UID:c7d8c7548a198785aa29a280526e5edc
DTSTART:20260419T140000
DTSTAMP:20260331T143242Z
SUMMARY:KNIFE TO THE HEART 4/19/26 - Final Performance Sunday Matinee
DESCRIPTION:Some choices slice closer than others.
A sharp-witted look at emotional bruises and family friction from the writers of The Golden Girls and Married... With Children. 
CREATED:20260331T143242Z
URL;VALUE=URI:http://holdmyticket.com/event/449366 

DTEND:20260419T160000
END:VEVENT
END:VCALENDAR