BEGIN:VCALENDAR
METHOD:PUBLISH
X-WR-TIMEZONE:America/Denver
PRODID:-//Hold My Ticket.//HMT Web App//EN
CALSCALE:GREGORIAN
METHOD:PUBLISH
X-WR-CALNAME:Lensic Performing Arts Center 
X-WR-CALDESC:Upcoming events at Lensic Performing Arts Center 
BEGIN:VTIMEZONE
TZID:America/Denver 
END:VTIMEZONE
BEGIN:VEVENT
SEQUENCE:2
TRANSP:OPAQUE
UID:6794c3caccee261b08c481a5627751a5
DTSTART:20260428T193000
DTSTAMP:20260218T154856Z
SUMMARY:Ukulele Orchestra of Great Britain
DESCRIPTION:
CREATED:20260218T154856Z
URL;VALUE=URI:http://holdmyticket.com/event/449735 

DTEND:20260428T214500
END:VEVENT
END:VCALENDAR