BEGIN:VCALENDAR
METHOD:PUBLISH
X-WR-TIMEZONE:America/Denver
PRODID:-//Hold My Ticket.//HMT Web App//EN
CALSCALE:GREGORIAN
METHOD:PUBLISH
X-WR-CALNAME:Egyptian Theatre
X-WR-CALDESC:Upcoming events at Egyptian Theatre
BEGIN:VTIMEZONE
TZID:America/Denver 
END:VTIMEZONE
BEGIN:VEVENT
SEQUENCE:2
TRANSP:OPAQUE
UID:d3550cb972eccf2d54aa952c6136f952
DTSTART:20251231T200000
DTSTAMP:20251231T133134Z
SUMMARY:Park City Cirque! Egyptian Theatre Celebrating 100 years as The Jewel Of Main Street!
DESCRIPTION:
CREATED:20251231T133134Z
URL;VALUE=URI:http://holdmyticket.com/event/449769 

DTEND:20251231T220000
END:VEVENT
END:VCALENDAR