BEGIN:VCALENDAR
METHOD:PUBLISH
X-WR-TIMEZONE:America/Denver
PRODID:-//Hold My Ticket.//HMT Web App//EN
CALSCALE:GREGORIAN
METHOD:PUBLISH
X-WR-CALNAME:Buffalo Rose
X-WR-CALDESC:Upcoming events at Buffalo Rose
BEGIN:VTIMEZONE
TZID:America/Denver 
END:VTIMEZONE
BEGIN:VEVENT
SEQUENCE:2
TRANSP:OPAQUE
UID:d7e2d42f3e6801f4090d65f601c94b0b
DTSTART:20250711T190000
DTSTAMP:20250623T123557Z
SUMMARY:Project Foreigner with Hey Lady
DESCRIPTION:
CREATED:20250623T123557Z
URL;VALUE=URI:http://holdmyticket.com/event/449878 

DTEND:20250711T230000
END:VEVENT
END:VCALENDAR