BEGIN:VCALENDAR
METHOD:PUBLISH
X-WR-TIMEZONE:America/Los_Angeles
PRODID:-//Hold My Ticket.//HMT Web App//EN
CALSCALE:GREGORIAN
METHOD:PUBLISH
X-WR-CALNAME:Winstons
X-WR-CALDESC:Upcoming events at Winstons
BEGIN:VTIMEZONE
TZID:America/Los_Angeles 
END:VTIMEZONE
BEGIN:VEVENT
SEQUENCE:2
TRANSP:OPAQUE
UID:b8c42ff86074e01a3329fa4a1cf1b3c8
DTSTART:20250726T203000
DTSTAMP:20250726T203302Z
SUMMARY:Caravan-Pocket Change and Séamus Scanlan
DESCRIPTION:
CREATED:20250726T203302Z
URL;VALUE=URI:http://holdmyticket.com/event/449990 

DTEND:20250726T233000
END:VEVENT
END:VCALENDAR