BEGIN:VCALENDAR
METHOD:PUBLISH
X-WR-TIMEZONE:America/Los_Angeles
PRODID:-//Hold My Ticket.//HMT Web App//EN
CALSCALE:GREGORIAN
METHOD:PUBLISH
X-WR-CALNAME:Winstons
X-WR-CALDESC:Upcoming events at Winstons
BEGIN:VTIMEZONE
TZID:America/Los_Angeles 
END:VTIMEZONE
BEGIN:VEVENT
SEQUENCE:2
TRANSP:OPAQUE
UID:389f8f3ec8b3e57f15dbc22647106a8e
DTSTART:20251011T210000
DTSTAMP:20250624T143005Z
SUMMARY:Robert French backed by The Equal Rights Band
DESCRIPTION:
CREATED:20250624T143005Z
URL;VALUE=URI:http://holdmyticket.com/event/450064 

DTEND:20251012T000000
END:VEVENT
END:VCALENDAR