BEGIN:VCALENDAR
METHOD:PUBLISH
X-WR-TIMEZONE:America/Denver
PRODID:-//Hold My Ticket.//HMT Web App//EN
CALSCALE:GREGORIAN
METHOD:PUBLISH
X-WR-CALNAME:Launchpad
X-WR-CALDESC:Upcoming events at Launchpad
BEGIN:VTIMEZONE
TZID:America/Denver 
END:VTIMEZONE
BEGIN:VEVENT
SEQUENCE:2
TRANSP:OPAQUE
UID:d269778dd596a9477ee63e68ba299301
DTSTART:20250924T200000
DTSTAMP:20250929T101601Z
SUMMARY:Terror Reid * Domsta * Warlord Colossus
DESCRIPTION:Due to a necessary routing adjustment, this event has been rescheduled for September 24.  The venue has changed to Launchpad. All September 18 tickets will be honored.

* Terror Reid * Domsta * Warlord Colossus *
Samsara Tour 

Thursday, September 24, 2025
Doors 7pm | Show 8pm
Launchpad 
ABQ NM 
all ages 

Advance tickets - $25 + service charge
https://www.facebook.com/events/609915368828246

NOW ON SALE! 
CREATED:20250929T101601Z
URL;VALUE=URI:http://holdmyticket.com/event/450155 

DTEND:20250924T230000
END:VEVENT
END:VCALENDAR