BEGIN:VCALENDAR
METHOD:PUBLISH
X-WR-TIMEZONE:America/Denver
PRODID:-//Hold My Ticket.//HMT Web App//EN
CALSCALE:GREGORIAN
METHOD:PUBLISH
X-WR-CALNAME:Tumbleroot Brewery and Distillery
X-WR-CALDESC:Upcoming events at Tumbleroot Brewery and Distillery
BEGIN:VTIMEZONE
TZID:America/Denver 
END:VTIMEZONE
BEGIN:VEVENT
SEQUENCE:2
TRANSP:OPAQUE
UID:67f16822510e547fbaa181786072618b
DTSTART:20250906T193000
DTSTAMP:20250701T100036Z
SUMMARY:Back in the Saddle
DESCRIPTION:
CREATED:20250701T100036Z
URL;VALUE=URI:http://holdmyticket.com/event/450278 

DTEND:20250906T230000
END:VEVENT
END:VCALENDAR