BEGIN:VCALENDAR
METHOD:PUBLISH
X-WR-TIMEZONE:America/Denver
PRODID:-//Hold My Ticket.//HMT Web App//EN
CALSCALE:GREGORIAN
METHOD:PUBLISH
X-WR-CALNAME:El Rey Theater
X-WR-CALDESC:Upcoming events at El Rey Theater
BEGIN:VTIMEZONE
TZID:America/Denver 
END:VTIMEZONE
BEGIN:VEVENT
SEQUENCE:2
TRANSP:OPAQUE
UID:5913c86631c73e71ffbb833cd20f0230
DTSTART:20260124T193000
DTSTAMP:20260113T221229Z
SUMMARY:Sadness, Madness, & Mayhem III
DESCRIPTION:This unexpected folk-rock orchestra materialized out of Albuquerque, but they might as well have slipped through an intergalactic portal or stowed away on a derelict spacecraft before crash landing in the desert. Dust City Opera tell harrowing tales of sadness, madness, and mishaps. With each performance illuminating the space between death and humor, this quintet becomes the soundtrack to stories steeped in cosmic horror and transcendence.
CREATED:20260113T221229Z
URL;VALUE=URI:http://holdmyticket.com/event/450366 

DTEND:20260124T220000
END:VEVENT
END:VCALENDAR