BEGIN:VCALENDAR
METHOD:PUBLISH
X-WR-TIMEZONE:America/Denver
PRODID:-//Hold My Ticket.//HMT Web App//EN
CALSCALE:GREGORIAN
METHOD:PUBLISH
X-WR-CALNAME:Launchpad
X-WR-CALDESC:Upcoming events at Launchpad
BEGIN:VTIMEZONE
TZID:America/Denver 
END:VTIMEZONE
BEGIN:VEVENT
SEQUENCE:2
TRANSP:OPAQUE
UID:1fb0fef66f41c51ae6dd7f42afda904e
DTSTART:20260423T190000
DTSTAMP:20260224T161820Z
SUMMARY:14th Annual Gathering of MCs (Night 1)
DESCRIPTION:
CREATED:20260224T161820Z
URL;VALUE=URI:http://holdmyticket.com/event/450842 

DTEND:20260423T230000
END:VEVENT
END:VCALENDAR