BEGIN:VCALENDAR
METHOD:PUBLISH
X-WR-TIMEZONE:America/Denver
PRODID:-//Hold My Ticket.//HMT Web App//EN
CALSCALE:GREGORIAN
METHOD:PUBLISH
X-WR-CALNAME:Meow Wolf
X-WR-CALDESC:Upcoming events at Meow Wolf
BEGIN:VTIMEZONE
TZID:America/Denver 
END:VTIMEZONE
BEGIN:VEVENT
SEQUENCE:2
TRANSP:OPAQUE
UID:5f0ed9ab7dd84839c29725050384d032
DTSTART:20251115T203000
DTSTAMP:20251114T150905Z
SUMMARY:Desert Dwellers - SOLD OUT 
DESCRIPTION:
CREATED:20251114T150905Z
URL;VALUE=URI:http://holdmyticket.com/event/451321 

DTEND:20251115T230000
END:VEVENT
END:VCALENDAR