BEGIN:VCALENDAR
METHOD:PUBLISH
X-WR-TIMEZONE:America/Denver
PRODID:-//Hold My Ticket.//HMT Web App//EN
CALSCALE:GREGORIAN
METHOD:PUBLISH
X-WR-CALNAME:El Rey
X-WR-CALDESC:Upcoming events at El Rey
BEGIN:VTIMEZONE
TZID:America/Denver 
END:VTIMEZONE
BEGIN:VEVENT
SEQUENCE:2
TRANSP:OPAQUE
UID:af100c639305e38cb61682c49782fdd5
DTSTART:20260503T164500
DTSTAMP:20260224T161820Z
SUMMARY:Chaos & Carnage 2026
DESCRIPTION:* Thy Art Is Murder * Bodysnatcher * Carnifex * 200 Stab Wounds * Ingested * Gates To Hell * Bodybox *
Chaos & Carnage 2026

Sunday, May 3, 2026
Doors 4pm | Show 430pm
El Rey Theater
ABQ NM 
all ages 

Advance tickets - $40 + service charge
Ticket prices may increase day of show

CREATED:20260224T161820Z
URL;VALUE=URI:http://holdmyticket.com/event/451372 

DTEND:20260503T230000
END:VEVENT
END:VCALENDAR