BEGIN:VCALENDAR
METHOD:PUBLISH
X-WR-TIMEZONE:America/Denver
PRODID:-//Hold My Ticket.//HMT Web App//EN
CALSCALE:GREGORIAN
METHOD:PUBLISH
X-WR-CALNAME:Sunshine Theater
X-WR-CALDESC:Upcoming events at Sunshine Theater
BEGIN:VTIMEZONE
TZID:America/Denver 
END:VTIMEZONE
BEGIN:VEVENT
SEQUENCE:2
TRANSP:OPAQUE
UID:a2acf2d4383bc775d6b708f057d2858d
DTSTART:20251114T200000
DTSTAMP:20251114T175102Z
SUMMARY:The Taylor Party - The T.S. Dance Party 
DESCRIPTION:* The Taylor Party - The T.S. Dance Party  *
CREATED:20251114T175102Z
URL;VALUE=URI:http://holdmyticket.com/event/451503 

DTEND:20251114T230000
END:VEVENT
END:VCALENDAR