BEGIN:VCALENDAR
METHOD:PUBLISH
X-WR-TIMEZONE:America/Denver
PRODID:-//Hold My Ticket.//HMT Web App//EN
CALSCALE:GREGORIAN
METHOD:PUBLISH
X-WR-CALNAME:The Oriental Theater
X-WR-CALDESC:Upcoming events at The Oriental Theater
BEGIN:VTIMEZONE
TZID:America/Denver 
END:VTIMEZONE
BEGIN:VEVENT
SEQUENCE:2
TRANSP:OPAQUE
UID:948e3d95c9ee8e0917534d581d73d7e5
DTSTART:20251024T200000
DTSTAMP:20251013T150705Z
SUMMARY:Pop Punk Nite: Halloween Party by Van Full of Nuns
DESCRIPTION:
CREATED:20251013T150705Z
URL;VALUE=URI:http://holdmyticket.com/event/451526 

DTEND:20251024T230000
END:VEVENT
END:VCALENDAR