BEGIN:VCALENDAR
METHOD:PUBLISH
X-WR-TIMEZONE:America/Denver
PRODID:-//Hold My Ticket.//HMT Web App//EN
CALSCALE:GREGORIAN
METHOD:PUBLISH
X-WR-CALNAME:Meow Wolf
X-WR-CALDESC:Upcoming events at Meow Wolf
BEGIN:VTIMEZONE
TZID:America/Denver 
END:VTIMEZONE
BEGIN:VEVENT
SEQUENCE:2
TRANSP:OPAQUE
UID:1f9c1ca98f2d0b7f98dafbbfe5b5d7bc
DTSTART:20251118T200000
DTSTAMP:20251118T122857Z
SUMMARY:Marlon Funaki  - SOLD OUT 
DESCRIPTION:
CREATED:20251118T122857Z
URL;VALUE=URI:http://holdmyticket.com/event/451631 

DTEND:20251118T230000
END:VEVENT
END:VCALENDAR