BEGIN:VCALENDAR
METHOD:PUBLISH
X-WR-TIMEZONE:America/Denver
PRODID:-//Hold My Ticket.//HMT Web App//EN
CALSCALE:GREGORIAN
METHOD:PUBLISH
X-WR-CALNAME:Launchpad
X-WR-CALDESC:Upcoming events at Launchpad
BEGIN:VTIMEZONE
TZID:America/Denver 
END:VTIMEZONE
BEGIN:VEVENT
SEQUENCE:2
TRANSP:OPAQUE
UID:32e5ceeb9404c6517c8eae49e0f40f13
DTSTART:20260404T150000
DTSTAMP:20260404T164926Z
SUMMARY:Vial * Alex Vile * Smoking Dolls - Matinee Show! 
DESCRIPTION:* Vial * Alex Vile * Smoking Dolls * 
The Hellhound Tour
MATINEE SHOW! 

Saturday, April 4, 2026
Doors 2pm | Show 3pm
Launchpad 
ABQ NM 
ages matinee event

Advance tickets - $15 + service charge
Ticket prices may increase day of show
https://www.facebook.com/events/899283469229069
CREATED:20260404T164926Z
URL;VALUE=URI:http://holdmyticket.com/event/451639 

DTEND:20260404T230000
END:VEVENT
END:VCALENDAR