BEGIN:VCALENDAR
METHOD:PUBLISH
X-WR-TIMEZONE:America/Chicago
PRODID:-//Hold My Ticket.//HMT Web App//EN
CALSCALE:GREGORIAN
METHOD:PUBLISH
X-WR-CALNAME:Luckenbach Texas
X-WR-CALDESC:Upcoming events at Luckenbach Texas
BEGIN:VTIMEZONE
TZID:America/Chicago 
END:VTIMEZONE
BEGIN:VEVENT
SEQUENCE:2
TRANSP:OPAQUE
UID:801621086992ac4a5249b4dff5558c0d
DTSTART:20260424T200000
DTSTAMP:20260416T124830Z
SUMMARY:Lukas Nelson 
DESCRIPTION:
CREATED:20260416T124830Z
URL;VALUE=URI:http://holdmyticket.com/event/451662 

DTEND:20260424T213000
END:VEVENT
END:VCALENDAR