BEGIN:VCALENDAR
METHOD:PUBLISH
X-WR-TIMEZONE:America/Denver
PRODID:-//Hold My Ticket.//HMT Web App//EN
CALSCALE:GREGORIAN
METHOD:PUBLISH
X-WR-CALNAME:Twilight Cafe and Bar
X-WR-CALDESC:Upcoming events at Twilight Cafe and Bar
BEGIN:VTIMEZONE
TZID:America/Denver 
END:VTIMEZONE
BEGIN:VEVENT
SEQUENCE:2
TRANSP:OPAQUE
UID:42a3f1ce8c6bc4b6da4044a90da2715d
DTSTART:20250904T200000
DTSTAMP:20250826T222308Z
SUMMARY:Unga Dunga w/ H-Dawg and the Smawg, Jean Wilder
DESCRIPTION:
CREATED:20250826T222308Z
URL;VALUE=URI:http://holdmyticket.com/event/451776 

DTEND:20250904T234500
END:VEVENT
END:VCALENDAR