BEGIN:VCALENDAR
METHOD:PUBLISH
X-WR-TIMEZONE:America/Los_Angeles
PRODID:-//Hold My Ticket.//HMT Web App//EN
CALSCALE:GREGORIAN
METHOD:PUBLISH
X-WR-CALNAME:Winstons
X-WR-CALDESC:Upcoming events at Winstons
BEGIN:VTIMEZONE
TZID:America/Los_Angeles 
END:VTIMEZONE
BEGIN:VEVENT
SEQUENCE:2
TRANSP:OPAQUE
UID:5e4e1f024e3c1f71700aa5ade36f0675
DTSTART:20250927T210000
DTSTAMP:20250820T122546Z
SUMMARY:Futuresexuals with Slowcoast
DESCRIPTION:
CREATED:20250820T122546Z
URL;VALUE=URI:http://holdmyticket.com/event/452075 

DTEND:20250928T000000
END:VEVENT
END:VCALENDAR