BEGIN:VCALENDAR
METHOD:PUBLISH
X-WR-TIMEZONE:America/Los_Angeles
PRODID:-//Hold My Ticket.//HMT Web App//EN
CALSCALE:GREGORIAN
METHOD:PUBLISH
X-WR-CALNAME:Winstons
X-WR-CALDESC:Upcoming events at Winstons
BEGIN:VTIMEZONE
TZID:America/Los_Angeles 
END:VTIMEZONE
BEGIN:VEVENT
SEQUENCE:2
TRANSP:OPAQUE
UID:6e8e5e5feb1a89798b0ab50e8fe404e7
DTSTART:20250913T210000
DTSTAMP:20250822T081938Z
SUMMARY: Wapacheros  and Shilakiles 
DESCRIPTION:
CREATED:20250822T081938Z
URL;VALUE=URI:http://holdmyticket.com/event/452218 

DTEND:20250914T000000
END:VEVENT
END:VCALENDAR