BEGIN:VCALENDAR
METHOD:PUBLISH
X-WR-TIMEZONE:America/Denver
PRODID:-//Hold My Ticket.//HMT Web App//EN
CALSCALE:GREGORIAN
METHOD:PUBLISH
X-WR-CALNAME:Twilight Cafe and Bar
X-WR-CALDESC:Upcoming events at Twilight Cafe and Bar
BEGIN:VTIMEZONE
TZID:America/Denver 
END:VTIMEZONE
BEGIN:VEVENT
SEQUENCE:2
TRANSP:OPAQUE
UID:6d6633ef5ce9e0ca23770b793f0e3358
DTSTART:20251012T200000
DTSTAMP:20251006T144248Z
SUMMARY:Jeff Crosby Band w/ Wes Youssi and The County Champs
DESCRIPTION:
CREATED:20251006T144248Z
URL;VALUE=URI:http://holdmyticket.com/event/452234 

DTEND:20251012T234500
END:VEVENT
END:VCALENDAR