BEGIN:VCALENDAR
METHOD:PUBLISH
X-WR-TIMEZONE:America/Denver
PRODID:-//Hold My Ticket.//HMT Web App//EN
CALSCALE:GREGORIAN
METHOD:PUBLISH
X-WR-CALNAME:International District Library
X-WR-CALDESC:Upcoming events at International District Library
BEGIN:VTIMEZONE
TZID:America/Denver 
END:VTIMEZONE
BEGIN:VEVENT
SEQUENCE:2
TRANSP:OPAQUE
UID:593c2cd9a6c615a9ba1ad2d7cd78a0a0
DTSTART:20251209T180000
DTSTAMP:20250916T034221Z
SUMMARY:Zenobia
DESCRIPTION:Zenobia will sing some blues, pop, disco and gospel standards, honoring artists and composers from across her varied career.  She'll also probably perform a song or two from HAIR, which she appeared in on Broadway!   She'll be accompanied by ﻿Josh English on drums and Steve Whitman on bass. 
CREATED:20250916T034221Z
URL;VALUE=URI:http://holdmyticket.com/event/452912 

DTEND:20251209T190000
END:VEVENT
END:VCALENDAR