BEGIN:VCALENDAR
METHOD:PUBLISH
X-WR-TIMEZONE:America/Denver
PRODID:-//Hold My Ticket.//HMT Web App//EN
CALSCALE:GREGORIAN
METHOD:PUBLISH
X-WR-CALNAME:The Dirty Bourbon, Dance Hall & Saloon
X-WR-CALDESC:Upcoming events at The Dirty Bourbon, Dance Hall & Saloon
BEGIN:VTIMEZONE
TZID:America/Denver 
END:VTIMEZONE
BEGIN:VEVENT
SEQUENCE:2
TRANSP:OPAQUE
UID:1cfa523c8929856f04aa7f3d0636d3ff
DTSTART:20260530T210000
DTSTAMP:20260414T143714Z
SUMMARY:Chad Freeman &amp; Redline
DESCRIPTION:
CREATED:20260414T143714Z
URL;VALUE=URI:http://holdmyticket.com/event/452987 

DTEND:20260531T020000
END:VEVENT
END:VCALENDAR