BEGIN:VCALENDAR
METHOD:PUBLISH
X-WR-TIMEZONE:America/Denver
PRODID:-//Hold My Ticket.//HMT Web App//EN
CALSCALE:GREGORIAN
METHOD:PUBLISH
X-WR-CALNAME:Sunshine Theater
X-WR-CALDESC:Upcoming events at Sunshine Theater
BEGIN:VTIMEZONE
TZID:America/Denver 
END:VTIMEZONE
BEGIN:VEVENT
SEQUENCE:2
TRANSP:OPAQUE
UID:d601b99292183f88702ded875e2855e5
DTSTART:20260421T193000
DTSTAMP:20260421T221652Z
SUMMARY:GWAR * Soulfly * King Parrot 
DESCRIPTION:* GWAR * Soulfly * King Parrot * 
Gor Gor Strikes Back Tour 

Tuesday, April 21, 2026
Doors 630pm | Show 730pm
Sunshine Theater 
ABQ NM 
all ages 

Advance tickets - $35 + service charge
Ticket prices may increase day of show
https://www.facebook.com/events/831549289644735

NOW ON SALE!! 

CREATED:20260421T221652Z
URL;VALUE=URI:http://holdmyticket.com/event/453152 

DTEND:20260421T230000
END:VEVENT
END:VCALENDAR